BEGIN:VCALENDAR
VERSION:2.0
PRODID:-//www.midpenn.org//NONSGML kigkonsult.se iCalcreator 2.30.10//
CALSCALE:GREGORIAN
METHOD:PUBLISH
UID:06fb0c10-21b5-4d47-970b-1f86718fbec5
X-WR-CALDESC:Join MidPenn Legal Services for a FREE in-person CLE sponsored
  by the Cumberland County Bar Association Pro Bono Section at the Cumberla
 nd County Courthouse on April 23\, 2026.\n\nEarn 1 Hour of Substantive CLE
  Credit while strengthening your knowledge of Protection From Abuse (PFA) 
 practice.\nPlease RSVP to ccba@cumberlandbar.com by April 22\, 2026 to att
 end.\nWe look forward to seeing you there!
X-WR-RELCALID:904ff759f273397c6047d97c681586db
X-WR-TIMEZONE:America/New_York
BEGIN:VTIMEZONE
TZID:America/New_York
BEGIN:STANDARD
TZNAME:EST
DTSTART:20251102T020000
TZOFFSETFROM:-0400
TZOFFSETTO:-0500
RDATE:20261101T020000
END:STANDARD
BEGIN:DAYLIGHT
TZNAME:EDT
DTSTART:20260308T020000
TZOFFSETFROM:-0500
TZOFFSETTO:-0400
RDATE:20270314T020000
END:DAYLIGHT
END:VTIMEZONE
BEGIN:VEVENT
UID:b5d9856b-6320-4bc7-86aa-381083531a24
DTSTAMP:20260421T012014Z
DESCRIPTION:Join MidPenn Legal Services for a FREE in-person CLE sponsored 
 by the Cumberland County Bar Association Pro Bono Section at the Cumberlan
 d County Courthouse on April 23\, 2026.\n\nEarn 1 Hour of Substantive CLE 
 Credit while strengthening your knowledge of Protection From Abuse (PFA) p
 ractice.\nPlease RSVP to ccba@cumberlandbar.com by April 22\, 2026 to atte
 nd.\nWe look forward to seeing you there!
DTSTART;TZID=America/New_York:20260423T143000
DTEND;TZID=America/New_York:20260423T153000
LOCATION:1 Courthouse Square\, Jury Assembly Room 3rd Floor\, Carlisle\, PA
  17013 US
SUMMARY:Everything You Ever Wanted To Know About PFAs\, But Were Afraid To 
 Ask
END:VEVENT
END:VCALENDAR
