BEGIN:VCALENDAR
VERSION:2.0
PRODID:-//www.midpenn.org//NONSGML kigkonsult.se iCalcreator 2.30.10//
CALSCALE:GREGORIAN
METHOD:PUBLISH
UID:1abdcf94-0274-42f1-86b0-225d3add53fa
X-WR-CALDESC:Driver's License Restoration Clinic - What do you need to do t
 o get your driver's license restored? Attend this free clinic to get answe
 rs. No registration required.
X-WR-RELCALID:d0ee803d393f32d6e0675ee6181d6326
X-WR-TIMEZONE:America/New_York
BEGIN:VTIMEZONE
TZID:America/New_York
BEGIN:STANDARD
TZNAME:EST
DTSTART:20251102T020000
TZOFFSETFROM:-0400
TZOFFSETTO:-0500
RDATE:20261101T020000
RDATE:20271107T020000
END:STANDARD
BEGIN:DAYLIGHT
TZNAME:EDT
DTSTART:20260308T020000
TZOFFSETFROM:-0500
TZOFFSETTO:-0400
RDATE:20270314T020000
END:DAYLIGHT
END:VTIMEZONE
BEGIN:VEVENT
UID:5900b5a6-7a0b-45fc-b7cf-da6e2b1e7f17
DTSTAMP:20260421T011942Z
DESCRIPTION:Driver's License Restoration Clinic - What do you need to do to
  get your driver's license restored? Attend this free clinic to get answer
 s. No registration required.
DTSTART;TZID=America/New_York:20260511T110000
DTEND;TZID=America/New_York:20260511T120000
LOCATION:Northern Dauphin Human Services Center\, 295 State Drive\, Elizabe
 thville\, PA 17023 US
SUMMARY:The Road Forward: Driver's License Restoration Clinic
END:VEVENT
END:VCALENDAR
