BEGIN:VCALENDAR
VERSION:2.0
PRODID:-//www.midpenn.org//NONSGML kigkonsult.se iCalcreator 2.30.10//
CALSCALE:GREGORIAN
METHOD:PUBLISH
UID:b8067796-7387-4eec-a5a2-07fd3d871a36
X-WR-CALDESC:Do you have questions about expungements or pardons? Get answe
 rs by attending this free clinic. No registration necessary.
X-WR-RELCALID:4ef624388a8d9f94ce219f4f47e4eebb
X-WR-TIMEZONE:America/New_York
BEGIN:VTIMEZONE
TZID:America/New_York
BEGIN:STANDARD
TZNAME:EST
DTSTART:20251102T020000
TZOFFSETFROM:-0400
TZOFFSETTO:-0500
RDATE:20261101T020000
RDATE:20271107T020000
END:STANDARD
BEGIN:DAYLIGHT
TZNAME:EDT
DTSTART:20260308T020000
TZOFFSETFROM:-0500
TZOFFSETTO:-0400
RDATE:20270314T020000
END:DAYLIGHT
END:VTIMEZONE
BEGIN:VEVENT
UID:02479818-a5ba-483f-8914-fecd701f74d7
DTSTAMP:20260421T012041Z
DESCRIPTION:Do you have questions about expungements or pardons? Get answer
 s by attending this free clinic. No registration necessary.
DTSTART;TZID=America/New_York:20260511T100000
DTEND;TZID=America/New_York:20260511T110000
LOCATION:295 State Drive\, Elizabethville\, PA 17023 US
SUMMARY:Your Past Doesn't Define Your Future - Expungements and Pardons Cli
 nic
END:VEVENT
END:VCALENDAR
