BEGIN:VCALENDAR
VERSION:2.0
PRODID:-//www.midpenn.org//NONSGML kigkonsult.se iCalcreator 2.30.10//
CALSCALE:GREGORIAN
METHOD:PUBLISH
UID:8272e06b-3748-475e-847e-e20191db7757
X-WR-CALDESC:Join us for a practical discussion of ground-level work throug
 hout Cumberland County and how we can grow together.\n\nJoin us for a prac
 tical discussion of ground-level work throughout Cumberland County and how
  we can grow together.\n\nPanels include:\n\nSeeds of Success: Stories fro
 m the Ground Up\nRooted Connections: Navigating Legal Access & Justice Pat
 hways\nGrounded Futures: Employment\, Career Growth & Economic Mobility\nS
 hifting the Ground: How Local Policies Shape Responses to Homelessness\nSt
 ronger Together: Elevating Frontline Work Into Community Change (Keynote)
X-WR-RELCALID:1cb5ca53496677c4a118a2b3500a25de
X-WR-TIMEZONE:America/New_York
BEGIN:VTIMEZONE
TZID:America/New_York
BEGIN:STANDARD
TZNAME:EST
DTSTART:20251102T020000
TZOFFSETFROM:-0400
TZOFFSETTO:-0500
RDATE:20261101T020000
RDATE:20271107T020000
END:STANDARD
BEGIN:DAYLIGHT
TZNAME:EDT
DTSTART:20260308T020000
TZOFFSETFROM:-0500
TZOFFSETTO:-0400
RDATE:20270314T020000
END:DAYLIGHT
END:VTIMEZONE
BEGIN:VEVENT
UID:b25d56ec-450c-480d-803a-d8b29f96a11b
DTSTAMP:20260420T234109Z
DESCRIPTION:Join us for a practical discussion of ground-level work through
 out Cumberland County and how we can grow together.\n\nJoin us for a pract
 ical discussion of ground-level work throughout Cumberland County and how 
 we can grow together.\n\nPanels include:\n\nSeeds of Success: Stories from
  the Ground Up\nRooted Connections: Navigating Legal Access & Justice Path
 ways\nGrounded Futures: Employment\, Career Growth & Economic Mobility\nSh
 ifting the Ground: How Local Policies Shape Responses to Homelessness\nStr
 onger Together: Elevating Frontline Work Into Community Change (Keynote)
DTSTART;TZID=America/New_York:20260519T083000
DTEND;TZID=America/New_York:20260519T150000
LOCATION:Carlisle United Methodist Church\, 333 South Spring Garden Street\
 , Carlisle\, PA 17013 US
SUMMARY:Roots and Resources - A Housing Forum
END:VEVENT
END:VCALENDAR
