BEGIN:VCALENDAR
VERSION:2.0
PRODID:-//www.midpenn.org//NONSGML kigkonsult.se iCalcreator 2.30.10//
CALSCALE:GREGORIAN
METHOD:PUBLISH
UID:a090fcb0-30ee-437b-abf4-b5a783c2c1c6
X-WR-CALDESC:
X-WR-RELCALID:8bc44632f35800f43ac72845ceee6cac
X-WR-TIMEZONE:America/New_York
BEGIN:VTIMEZONE
TZID:America/New_York
BEGIN:STANDARD
TZNAME:EST
DTSTART:20251102T020000
TZOFFSETFROM:-0400
TZOFFSETTO:-0500
RDATE:20261101T020000
RDATE:20271107T020000
END:STANDARD
BEGIN:DAYLIGHT
TZNAME:EDT
DTSTART:20260308T020000
TZOFFSETFROM:-0500
TZOFFSETTO:-0400
RDATE:20270314T020000
END:DAYLIGHT
END:VTIMEZONE
BEGIN:VEVENT
UID:7e3e2574-b313-4784-ac63-7c3cd6b5ce3b
DTSTAMP:20260420T234228Z
DESCRIPTION:
DTSTART;TZID=America/New_York:20260525T060000
DTEND;TZID=America/New_York:20260525T060001
LOCATION:
SUMMARY:Memorial Day - MidPenn Offices Closed
END:VEVENT
END:VCALENDAR
