BEGIN:VCALENDAR
VERSION:2.0
PRODID:-//www.midpenn.org//NONSGML kigkonsult.se iCalcreator 2.30.10//
CALSCALE:GREGORIAN
METHOD:PUBLISH
UID:178f5889-cc0d-48e9-86ea-3d88ce8bf2ad
X-WR-CALDESC:
X-WR-RELCALID:1f12d9b7789a4878f6a9173b6a3dc2bf
X-WR-TIMEZONE:America/New_York
BEGIN:VTIMEZONE
TZID:America/New_York
BEGIN:STANDARD
TZNAME:EST
DTSTART:20251102T020000
TZOFFSETFROM:-0400
TZOFFSETTO:-0500
RDATE:20261101T020000
RDATE:20271107T020000
END:STANDARD
BEGIN:DAYLIGHT
TZNAME:EDT
DTSTART:20260308T020000
TZOFFSETFROM:-0500
TZOFFSETTO:-0400
RDATE:20270314T020000
END:DAYLIGHT
END:VTIMEZONE
BEGIN:VEVENT
UID:bd48b746-e04d-461c-8640-ef57576817a9
DTSTAMP:20260421T011818Z
DESCRIPTION:
DTSTART;TZID=America/New_York:20260619T060000
DTEND;TZID=America/New_York:20260619T060001
LOCATION:
SUMMARY:Juneteenth - MidPenn Offices Closed
END:VEVENT
END:VCALENDAR
