BEGIN:VCALENDAR
VERSION:2.0
PRODID:-//www.midpenn.org//NONSGML kigkonsult.se iCalcreator 2.30.10//
CALSCALE:GREGORIAN
METHOD:PUBLISH
UID:5023a90c-5f7f-426c-b001-700da093c9a8
X-WR-CALDESC:
X-WR-RELCALID:22ebf84cb21f87eeb6035b4499d54bca
X-WR-TIMEZONE:America/New_York
BEGIN:VTIMEZONE
TZID:America/New_York
BEGIN:STANDARD
TZNAME:EST
DTSTART:20251102T020000
TZOFFSETFROM:-0400
TZOFFSETTO:-0500
RDATE:20261101T020000
RDATE:20271107T020000
END:STANDARD
BEGIN:DAYLIGHT
TZNAME:EDT
DTSTART:20260308T020000
TZOFFSETFROM:-0500
TZOFFSETTO:-0400
RDATE:20270314T020000
END:DAYLIGHT
END:VTIMEZONE
BEGIN:VEVENT
UID:4aebbdc9-656e-4aa8-a238-3c058bac29dc
DTSTAMP:20260420T234651Z
DESCRIPTION:
DTSTART;TZID=America/New_York:20260703T060000
DTEND;TZID=America/New_York:20260703T060001
LOCATION:
SUMMARY:Fourth of July Holiday - MidPenn Offices Closed
END:VEVENT
END:VCALENDAR
