BEGIN:VCALENDAR
VERSION:2.0
PRODID:-//www.midpenn.org//NONSGML kigkonsult.se iCalcreator 2.30.10//
CALSCALE:GREGORIAN
METHOD:PUBLISH
UID:8ef480e0-abe2-4140-b8cc-29ea9f80aaa2
X-WR-CALDESC:Driver's License Restoration Clinic - What do you need to do t
 o get your driver's license restored? Attend this free clinic to get answe
 rs. No registration required.
X-WR-RELCALID:151d5f4c9111c1f2049b337aad4d0585
X-WR-TIMEZONE:America/New_York
BEGIN:VTIMEZONE
TZID:America/New_York
BEGIN:STANDARD
TZNAME:EST
DTSTART:20261101T020000
TZOFFSETFROM:-0400
TZOFFSETTO:-0500
RDATE:20271107T020000
END:STANDARD
BEGIN:DAYLIGHT
TZNAME:EDT
DTSTART:20260308T020000
TZOFFSETFROM:-0500
TZOFFSETTO:-0400
RDATE:20270314T020000
RDATE:20280312T020000
END:DAYLIGHT
END:VTIMEZONE
BEGIN:VEVENT
UID:550ef09b-711d-4d80-b49e-92283ede4046
DTSTAMP:20260421T011942Z
DESCRIPTION:Driver's License Restoration Clinic - What do you need to do to
  get your driver's license restored? Attend this free clinic to get answer
 s. No registration required.
DTSTART;TZID=America/New_York:20261109T110000
DTEND;TZID=America/New_York:20261109T120000
LOCATION:Northern Dauphin Human Services Center\, 295 State Drive\, Elizabe
 thville\, PA 17023 US
SUMMARY:The Road Forward: Driver's License Restoration Clinic (Copy)
END:VEVENT
END:VCALENDAR
