BEGIN:VCALENDAR
VERSION:2.0
PRODID:-//www.midpenn.org//NONSGML kigkonsult.se iCalcreator 2.30.10//
CALSCALE:GREGORIAN
METHOD:PUBLISH
UID:a24bc461-7cff-459e-a416-010ee0e03a53
X-WR-CALDESC:Do you have questions about expungements or pardons? Get answe
 rs by attending this free clinic. No registration necessary.
X-WR-RELCALID:6c49c5eaacd3ebeeb3a02c0ca3e1f1df
X-WR-TIMEZONE:America/New_York
BEGIN:VTIMEZONE
TZID:America/New_York
BEGIN:STANDARD
TZNAME:EST
DTSTART:20261101T020000
TZOFFSETFROM:-0400
TZOFFSETTO:-0500
RDATE:20271107T020000
END:STANDARD
BEGIN:DAYLIGHT
TZNAME:EDT
DTSTART:20260308T020000
TZOFFSETFROM:-0500
TZOFFSETTO:-0400
RDATE:20270314T020000
RDATE:20280312T020000
END:DAYLIGHT
END:VTIMEZONE
BEGIN:VEVENT
UID:38ba7d9d-0ec4-44f6-8f0e-c25aedc565b1
DTSTAMP:20260421T012041Z
DESCRIPTION:Do you have questions about expungements or pardons? Get answer
 s by attending this free clinic. No registration necessary.
DTSTART;TZID=America/New_York:20261109T100000
DTEND;TZID=America/New_York:20261109T110000
LOCATION:295 State Drive\, Elizabethville\, PA 17023 US
SUMMARY:Your Past Doesn't Define Your Future - Expungements and Pardons Cli
 nic
END:VEVENT
END:VCALENDAR
